BEGIN:VCALENDAR
VERSION:2.0
PRODID:-//TYPO3/NONSGML Calendarize//EN
BEGIN:VEVENT
UID:calendarize-vivatech-2026
DTSTAMP:20260407T142117Z
DTSTART;VALUE=DATE:20260617
DTEND;VALUE=DATE:20260621
SUMMARY:VivaTech 2026
DESCRIPTION:Viva Technology est le plus grand événement européen dédié
  aux startups et à l’innovation technologique. Pendant 4 jours\, il ré
 unit à Paris startups\, grandes entreprises\, investisseurs et experts au
 tour des grandes tendances tech (IA\, mobilité\, climat\, industrie…).\
 nUn rendez-vous incontournable pour découvrir les innovations de demain\,
  développer son réseau et explorer de nouvelles opportunités business.
X-ALT-DESC;FMTTYPE=text/html:<p>Viva Technology est le plus grand événem
 ent européen dédié aux startups et à l’innovation technologique. Pen
 dant 4 jours\, il réunit à Paris startups\, grandes entreprises\, invest
 isseurs et experts autour des grandes tendances tech (IA\, mobilité\, cli
 mat\, industrie…).</p>\n<p>Un rendez-vous incontournable pour découvrir
  les innovations de demain\, développer son réseau et explorer de nouvel
 les opportunités business.</p>
LOCATION:Paris
END:VEVENT
END:VCALENDAR
